BEGIN:VCALENDAR
VERSION:2.0
PRODID:-//Hingham250 - ECPv6.15.20//NONSGML v1.0//EN
CALSCALE:GREGORIAN
METHOD:PUBLISH
X-ORIGINAL-URL:https://hingham250.org
X-WR-CALDESC:Events for Hingham250
REFRESH-INTERVAL;VALUE=DURATION:PT1H
X-Robots-Tag:noindex
X-PUBLISHED-TTL:PT1H
BEGIN:VTIMEZONE
TZID:America/New_York
BEGIN:DAYLIGHT
TZOFFSETFROM:-0500
TZOFFSETTO:-0400
TZNAME:EDT
DTSTART:20250309T070000
END:DAYLIGHT
BEGIN:STANDARD
TZOFFSETFROM:-0400
TZOFFSETTO:-0500
TZNAME:EST
DTSTART:20251102T060000
END:STANDARD
BEGIN:DAYLIGHT
TZOFFSETFROM:-0500
TZOFFSETTO:-0400
TZNAME:EDT
DTSTART:20260308T070000
END:DAYLIGHT
BEGIN:STANDARD
TZOFFSETFROM:-0400
TZOFFSETTO:-0500
TZNAME:EST
DTSTART:20261101T060000
END:STANDARD
BEGIN:DAYLIGHT
TZOFFSETFROM:-0500
TZOFFSETTO:-0400
TZNAME:EDT
DTSTART:20270314T070000
END:DAYLIGHT
BEGIN:STANDARD
TZOFFSETFROM:-0400
TZOFFSETTO:-0500
TZNAME:EST
DTSTART:20271107T060000
END:STANDARD
END:VTIMEZONE
BEGIN:VEVENT
DTSTART;TZID=America/New_York:20260509T173000
DTEND;TZID=America/New_York:20260509T203000
DTSTAMP:20260423T111614
CREATED:20260414T200433Z
LAST-MODIFIED:20260414T200433Z
UID:272-1778347800-1778358600@hingham250.org
SUMMARY:Red\, White\, and Bubbly!  A Celebration of America's 250th
DESCRIPTION:Cocktails\, Dinner\, and Live Auction!
URL:https://hingham250.org/event/red-white-and-bubbly-a-celebration-of-americas-250th/
LOCATION:Hingham Heritage Museum\, 34 Main Street\, Hingham\, MA\, 02043\, United States
ATTACH;FMTTYPE=image/jpeg:https://hingham250.org/wp-content/uploads/2026/04/HHS-Red-White-and-Bubbly-REV-250-05-09-2026.jpg
ORGANIZER;CN="Hingham Historical Society":MAILTO:info@hinghamhistorical.org
END:VEVENT
END:VCALENDAR