BEGIN:VCALENDAR
VERSION:2.0
PRODID:-//Hingham250 - ECPv6.15.20//NONSGML v1.0//EN
CALSCALE:GREGORIAN
METHOD:PUBLISH
X-ORIGINAL-URL:https://hingham250.org
X-WR-CALDESC:Events for Hingham250
REFRESH-INTERVAL;VALUE=DURATION:PT1H
X-Robots-Tag:noindex
X-PUBLISHED-TTL:PT1H
BEGIN:VTIMEZONE
TZID:America/New_York
BEGIN:DAYLIGHT
TZOFFSETFROM:-0500
TZOFFSETTO:-0400
TZNAME:EDT
DTSTART:20250309T070000
END:DAYLIGHT
BEGIN:STANDARD
TZOFFSETFROM:-0400
TZOFFSETTO:-0500
TZNAME:EST
DTSTART:20251102T060000
END:STANDARD
BEGIN:DAYLIGHT
TZOFFSETFROM:-0500
TZOFFSETTO:-0400
TZNAME:EDT
DTSTART:20260308T070000
END:DAYLIGHT
BEGIN:STANDARD
TZOFFSETFROM:-0400
TZOFFSETTO:-0500
TZNAME:EST
DTSTART:20261101T060000
END:STANDARD
BEGIN:DAYLIGHT
TZOFFSETFROM:-0500
TZOFFSETTO:-0400
TZNAME:EDT
DTSTART:20270314T070000
END:DAYLIGHT
BEGIN:STANDARD
TZOFFSETFROM:-0400
TZOFFSETTO:-0500
TZNAME:EST
DTSTART:20271107T060000
END:STANDARD
END:VTIMEZONE
BEGIN:VEVENT
DTSTART;TZID=America/New_York:20260620T100000
DTEND;TZID=America/New_York:20260620T170000
DTSTAMP:20260421T054142
CREATED:20260409T220814Z
LAST-MODIFIED:20260414T171739Z
UID:216-1781949600-1781974800@hingham250.org
SUMMARY:Hingham Celebrates FIFA 2026
DESCRIPTION:As the world gathers in Massachusetts\, take time to discover one of the region’s most charming destinations – Historic Downtown Hingham.  The town’s historic retail center offers a perfect Saturday escape – stroll historic\, tree-lined streets\, browse locally-owned boutiques and galleries\, enjoy coffee\, lunch\, or ice cream at welcoming cafes and pubs\, and explore centuries of history in one of New England’s most beautiful coastal towns. \nLocated a short distance from Boston\, Hingham is easily reachable by MBTA Ferry\, MBTA Commuter Rail\, and by car. \nHingham’s downtown has something to offer to everyone.  Build your visit around locally-crafted itineraries focused on family\, arts and culture\, and  shopping and dining. \nHistory buffs can start with a visit at the Hingham Heritage Museum Visitor Center\, to learn more of Hingham’s remarkable Revolutionary War-era past and plan the day.  Look for guided tours of the 17th century Old Ordinary\, a 17th century tavern serving Boston stagecoach travelers; and the Benjamin Lincoln House\, home of the American general who accepted the British surrender at Yorktown. \n 
URL:https://hingham250.org/event/hingham-celebrates-fifa-2026/
LOCATION:Hingham Square\, 14 Main Street\, Hingham\, MA\, 02043\, United States
ATTACH;FMTTYPE=image/jpeg:https://hingham250.org/wp-content/uploads/2026/04/HDA-FIFA-06-20-26-06-27-26-16-x-9.jpg
END:VEVENT
END:VCALENDAR