BEGIN:VCALENDAR
VERSION:2.0
PRODID:-//Hingham250 - ECPv6.15.20//NONSGML v1.0//EN
CALSCALE:GREGORIAN
METHOD:PUBLISH
X-WR-CALNAME:Hingham250
X-ORIGINAL-URL:https://hingham250.org
X-WR-CALDESC:Events for Hingham250
REFRESH-INTERVAL;VALUE=DURATION:PT1H
X-Robots-Tag:noindex
X-PUBLISHED-TTL:PT1H
BEGIN:VTIMEZONE
TZID:America/New_York
BEGIN:DAYLIGHT
TZOFFSETFROM:-0500
TZOFFSETTO:-0400
TZNAME:EDT
DTSTART:20250309T070000
END:DAYLIGHT
BEGIN:STANDARD
TZOFFSETFROM:-0400
TZOFFSETTO:-0500
TZNAME:EST
DTSTART:20251102T060000
END:STANDARD
BEGIN:DAYLIGHT
TZOFFSETFROM:-0500
TZOFFSETTO:-0400
TZNAME:EDT
DTSTART:20260308T070000
END:DAYLIGHT
BEGIN:STANDARD
TZOFFSETFROM:-0400
TZOFFSETTO:-0500
TZNAME:EST
DTSTART:20261101T060000
END:STANDARD
BEGIN:DAYLIGHT
TZOFFSETFROM:-0500
TZOFFSETTO:-0400
TZNAME:EDT
DTSTART:20270314T070000
END:DAYLIGHT
BEGIN:STANDARD
TZOFFSETFROM:-0400
TZOFFSETTO:-0500
TZNAME:EST
DTSTART:20271107T060000
END:STANDARD
END:VTIMEZONE
BEGIN:VEVENT
DTSTART;TZID=America/New_York:20260702T170000
DTEND;TZID=America/New_York:20260702T210000
DTSTAMP:20260421T091857
CREATED:20260416T205132Z
LAST-MODIFIED:20260416T205413Z
UID:277-1783011600-1783026000@hingham250.org
SUMMARY:Hingham All American Picnic and Dance Party
DESCRIPTION:Gather at Hingham Harbor for All American Picnic and Dance Party on Wednesday\, July 2\, 2025.  Hosted at the Hingham Bathing Beach\, this family-friendly evening is presented by the Town’s Harbor Development Committee in partnership with the Hingham Historical Society. Festivities begin at 5:00 PM with food trucks near the Victory (Iron Horse) Statue at the Beach House at the Bathing Beach\, which will have extended hours for the event..  At 7:00 PM\, crowd favorite Booty Vortex takes the stage at the harbor bandstand to lead a free community dance party! \nParking is available at the Bathing Beach parking lot and the Station Street parking lot.
URL:https://hingham250.org/event/hingham-all-american-picnic-and-dance-party/
LOCATION:Hingham Harbor Bandstand\, 95 Otis Street\, Hingham\, MA\, United States
ATTACH;FMTTYPE=image/jpeg:https://hingham250.org/wp-content/uploads/2026/04/HDC-All-American-Dance-Party-07-02-2026-16x9-1.jpg
END:VEVENT
BEGIN:VEVENT
DTSTART;TZID=America/New_York:20260711T080000
DTEND;TZID=America/New_York:20260711T140000
DTSTAMP:20260421T091857
CREATED:20251202T005326Z
LAST-MODIFIED:20260409T144330Z
UID:145-1783756800-1783778400@hingham250.org
SUMMARY:Charter Cruise from Hingham for Tall Ships
DESCRIPTION:
URL:https://hingham250.org/event/charter-cruise-from-hingham-for-tall-ships/
LOCATION:Hingham Yacht Club\, 211 Downer Ave\, Hingham\, MA\, 02043\, United States
CATEGORIES:Historical Society events
ATTACH;FMTTYPE=image/jpeg:https://hingham250.org/wp-content/uploads/2025/12/tall-ship.jpg
ORGANIZER;CN="Hingham Historical Society":MAILTO:info@hinghamhistorical.org
END:VEVENT
BEGIN:VEVENT
DTSTART;TZID=America/New_York:20260718T190000
DTEND;TZID=America/New_York:20260718T190000
DTSTAMP:20260421T091857
CREATED:20260414T190007Z
LAST-MODIFIED:20260414T190007Z
UID:263-1784401200-1784401200@hingham250.org
SUMMARY:American Landscapes - 250 Years of Song (Evening Under the Stars)
DESCRIPTION:Artistic Director Bill Richter and the Pilgrim Festival Chorus\, one of the South Shore’s premier choruses\, celebrate America’s rich musical heritage in honor of the nation’s 250th birthday. This powerful concert traces the soundscape of America through song – from stirring anthems to reflective works inspired by the American experience. This performance offers a moving tribute to the voices\, stories\, and landscapes that have shaped our country over the past 250 years. \nThe performance takes place in the Carr Amphitheater.  Seating options include Pavilion: $50; and ; Lawn: $25.  Children nine and under: Free.
URL:https://hingham250.org/event/american-landscapes-250-years-of-song-evening-under-the-stars/
LOCATION:South Shore Conservatory\, One Conservatory Drive\, Hingham\, MA\, 02043\, United States
ATTACH;FMTTYPE=image/jpeg:https://hingham250.org/wp-content/uploads/2026/04/SSC-American-Dream-07-18-2036-16x9-1.jpg
END:VEVENT
END:VCALENDAR