BEGIN:VCALENDAR
VERSION:2.0
PRODID:-//Hingham250 - ECPv6.15.20//NONSGML v1.0//EN
CALSCALE:GREGORIAN
METHOD:PUBLISH
X-WR-CALNAME:Hingham250
X-ORIGINAL-URL:https://hingham250.org
X-WR-CALDESC:Events for Hingham250
REFRESH-INTERVAL;VALUE=DURATION:PT1H
X-Robots-Tag:noindex
X-PUBLISHED-TTL:PT1H
BEGIN:VTIMEZONE
TZID:America/New_York
BEGIN:DAYLIGHT
TZOFFSETFROM:-0500
TZOFFSETTO:-0400
TZNAME:EDT
DTSTART:20250309T070000
END:DAYLIGHT
BEGIN:STANDARD
TZOFFSETFROM:-0400
TZOFFSETTO:-0500
TZNAME:EST
DTSTART:20251102T060000
END:STANDARD
BEGIN:DAYLIGHT
TZOFFSETFROM:-0500
TZOFFSETTO:-0400
TZNAME:EDT
DTSTART:20260308T070000
END:DAYLIGHT
BEGIN:STANDARD
TZOFFSETFROM:-0400
TZOFFSETTO:-0500
TZNAME:EST
DTSTART:20261101T060000
END:STANDARD
BEGIN:DAYLIGHT
TZOFFSETFROM:-0500
TZOFFSETTO:-0400
TZNAME:EDT
DTSTART:20270314T070000
END:DAYLIGHT
BEGIN:STANDARD
TZOFFSETFROM:-0400
TZOFFSETTO:-0500
TZNAME:EST
DTSTART:20271107T060000
END:STANDARD
END:VTIMEZONE
BEGIN:VEVENT
DTSTART;TZID=America/New_York:20260718T190000
DTEND;TZID=America/New_York:20260718T190000
DTSTAMP:20260421T124848
CREATED:20260414T190007Z
LAST-MODIFIED:20260414T190007Z
UID:263-1784401200-1784401200@hingham250.org
SUMMARY:American Landscapes - 250 Years of Song (Evening Under the Stars)
DESCRIPTION:Artistic Director Bill Richter and the Pilgrim Festival Chorus\, one of the South Shore’s premier choruses\, celebrate America’s rich musical heritage in honor of the nation’s 250th birthday. This powerful concert traces the soundscape of America through song – from stirring anthems to reflective works inspired by the American experience. This performance offers a moving tribute to the voices\, stories\, and landscapes that have shaped our country over the past 250 years. \nThe performance takes place in the Carr Amphitheater.  Seating options include Pavilion: $50; and ; Lawn: $25.  Children nine and under: Free.
URL:https://hingham250.org/event/american-landscapes-250-years-of-song-evening-under-the-stars/
LOCATION:South Shore Conservatory\, One Conservatory Drive\, Hingham\, MA\, 02043\, United States
ATTACH;FMTTYPE=image/jpeg:https://hingham250.org/wp-content/uploads/2026/04/SSC-American-Dream-07-18-2036-16x9-1.jpg
END:VEVENT
END:VCALENDAR